BEGIN:VCALENDAR
VERSION:2.0
PRODID:-//wp-events-plugin.com//7.2.3.1//EN
BEGIN:VEVENT
UID:1-2447@buddytobuddy.nl
DTSTART;TZID=Europe/Amsterdam:20240723T190000
DTEND;TZID=Europe/Amsterdam:20240723T210000
DTSTAMP:20240722T131546Z
URL:https://buddytobuddy.nl/event/zomeractiviteit-buddy-to-buddy-deventer/
SUMMARY:Zomeractiviteit Buddy to Buddy Deventer
DESCRIPTION:We gaan de zomer vieren met een leuke zomeractiviteit! Kom geze
 llig potluck picknicken\, neem je eigen instrument of spelletjes mee. Er i
 s ook ruimte voor vragen over jouw aanmelding. De locatie is in het Rijste
 rborgherpark. Hoe meer zielen\, hoe meer vreugd. Iedereen is welkom.\n\nVo
 or de potluck picknick vragen we je zelf hapjes en/of drankjes mee te neme
 n.\n\n
CATEGORIES:Deventer
LOCATION:Rijsterborgherpark\, Stationsstraat 2\, Deventer \, Nederland
GEO:52.258049;6.150557
X-APPLE-STRUCTURED-LOCATION;VALUE=URI;X-ADDRESS=Stationsstraat 2\, Deventer
  \, Nederland;X-APPLE-RADIUS=100;X-TITLE=Rijsterborgherpark:geo:52.258049,
 6.150557
END:VEVENT
BEGIN:VTIMEZONE
TZID:Europe/Amsterdam
X-LIC-LOCATION:Europe/Amsterdam
BEGIN:DAYLIGHT
DTSTART:20240331T030000
TZOFFSETFROM:+0100
TZOFFSETTO:+0200
TZNAME:CEST
END:DAYLIGHT
END:VTIMEZONE
END:VCALENDAR