BEGIN:VCALENDAR
VERSION:2.0
PRODID:-//wp-events-plugin.com//7.2.3.1//EN
BEGIN:VEVENT
UID:1-3945@buddytobuddy.nl
DTSTART;TZID=Europe/Amsterdam:20260429T143000
DTEND;TZID=Europe/Amsterdam:20260429T163000
DTSTAMP:20260424T152600Z
URL:https://buddytobuddy.nl/event/wereldhuiskamer-lochem-elke-woensdagmidd
 ag-%e2%98%80%ef%b8%8f-is-het-mooi-weer-dan-doen-we-soms-iets-leuks-buiten-
 zie-tekst-hieronder-2/
SUMMARY:Creatieve Wereldhuiskamer Lochem - deze week een kunstzinnige works
 hop ' Schilderen met draad.'
DESCRIPTION:Wereldhuiskamer Lochem - elke week op woensdagmiddag 🌍\nEn d
 eze keer organiseren we een creatieve Wereldhuiskamer! Een kunstzinnige wo
 rkshop "Schilderen met draad" bij Buddy to Buddy Lochem! Uit je hoofd met 
 je handen. \nElke woensdagmiddag is onze Wereldhuiskamer geopend van 14.3
 0 tot 16.30 uur.Iedereen is welkom. Kom langs voor koffie of thee\, een sp
 elletje en een gezellig praatje.\nDus buddy’s\, voormalige buddy’s en 
 iedereen die zin heeft in gezelligheid en ontmoeting tussen verschillende 
 culturen: kom gerust langs en voel je van harte welkom! 🩷💛\nLET OP 
 ☀️Is het mooi weer? ☀️ Dan doen we soms iets leuks buiten!We zette
 n dit dan op onze website\, social media en delen dit in onze WhatsApp gro
 epen.We gaan dan om 14.45 uur weg. Kom op tijd!Kom je later? Bel ons: 06-2
 3326298. Dan zeggen we waar we zijn.\nVervoerKun je meerijden met iemand? 
 Dat is fijn.Lukt dat niet? Bel of mail ons. Wij helpen je.\nLocatieBuddy t
 o Buddy Lochem (we huren een ruimte in het kerkgebouw bij de Action)Emmast
 raat 10\, Lochem\nWanneerElke week op woensdagmiddagGeopend van 14.30 tot 
 16.30 uur\nTot snel!\nContactE-mail: lochem@buddytobuddy.nlTelefoon: 06-23
 326298
CATEGORIES:Lochem
LOCATION:Buddy to Buddy Lochem\, Emmastraat 10\, Lochem\, 7241 EJ\, 
GEO:52.158824;6.417385
X-APPLE-STRUCTURED-LOCATION;VALUE=URI;X-ADDRESS=Emmastraat 10\, Lochem\, 72
 41 EJ\, ;X-APPLE-RADIUS=100;X-TITLE=Buddy to Buddy Lochem:geo:52.158824,6.
 417385
END:VEVENT
BEGIN:VTIMEZONE
TZID:Europe/Amsterdam
X-LIC-LOCATION:Europe/Amsterdam
BEGIN:DAYLIGHT
DTSTART:20260329T030000
TZOFFSETFROM:+0100
TZOFFSETTO:+0200
TZNAME:CEST
END:DAYLIGHT
END:VTIMEZONE
END:VCALENDAR