BEGIN:VCALENDAR
VERSION:2.0
PRODID:-//wp-events-plugin.com//7.2.3.1//EN
BEGIN:VEVENT
UID:1-3943@buddytobuddy.nl
DTSTART;TZID=Europe/Amsterdam:20260527T190000
DTEND;TZID=Europe/Amsterdam:20260527T210000
DTSTAMP:20260424T130128Z
URL:https://buddytobuddy.nl/event/wereldcafe-lochem-buddy-bingo/
SUMMARY:Wereldcafé Lochem: Buddy Bingo!
DESCRIPTION:De maand sluiten we af met een gezellige Bingo-avond 🎱🏆 G
 oed gezelschap\, fijne sfeer en leuke prijzen.\n\n🕢 19:00 – 21:00\n
 📍 Emmastraat 10\, Lochem
CATEGORIES:Lochem
END:VEVENT
BEGIN:VTIMEZONE
TZID:Europe/Amsterdam
X-LIC-LOCATION:Europe/Amsterdam
BEGIN:DAYLIGHT
DTSTART:20260329T030000
TZOFFSETFROM:+0100
TZOFFSETTO:+0200
TZNAME:CEST
END:DAYLIGHT
END:VTIMEZONE
END:VCALENDAR