BEGIN:VCALENDAR
VERSION:2.0
PRODID:-//wp-events-plugin.com//7.2.3.1//EN
BEGIN:VEVENT
UID:1-2742@buddytobuddy.nl
DTSTART;TZID=Europe/Amsterdam:20241201T103000
DTEND;TZID=Europe/Amsterdam:20241201T123000
DTSTAMP:20241121T151758Z
URL:https://buddytobuddy.nl/event/sinterklaasfeest-%f0%9f%8e%81%f0%9f%8d%a
 c%f0%9f%91%a2/
SUMMARY:Sinterklaasfeest 🎁🍬👢
DESCRIPTION:Hij komt\, hij komt\, de lieve goede Sint! Ook dit jaar brengt 
 de Sint een bezoek aan onze Huiskamer. Kom gezellig samen met je kinderen 
 naar het Sinterklaasfeest. Voor alle kinderen tot 10 jaar is er een cadeau
 tje 🎁. Het bezoek duurt van 10.30 - 12.30 uur.
ATTACH;FMTTYPE=image/jpeg:https://buddytobuddy.nl/wp-content/uploads/2024/
 11/sinterklaasfeest-1dec.jpg
CATEGORIES:Breda
LOCATION:Huiskamer Buddy to Buddy Breda\, Christiaan Huygensstraat 52\, Bre
 da\, 4816 BK\, Nederland
GEO:51.597441;4.787697
X-APPLE-STRUCTURED-LOCATION;VALUE=URI;X-ADDRESS=Christiaan Huygensstraat 52
 \, Breda\, 4816 BK\, Nederland;X-APPLE-RADIUS=100;X-TITLE=Huiskamer Buddy 
 to Buddy Breda:geo:51.597441,4.787697
END:VEVENT
BEGIN:VTIMEZONE
TZID:Europe/Amsterdam
X-LIC-LOCATION:Europe/Amsterdam
BEGIN:STANDARD
DTSTART:20241027T020000
TZOFFSETFROM:+0200
TZOFFSETTO:+0100
TZNAME:CET
END:STANDARD
END:VTIMEZONE
END:VCALENDAR