BEGIN:VCALENDAR
VERSION:2.0
PRODID:-//wp-events-plugin.com//7.2.3.1//EN
BEGIN:VEVENT
UID:1-2449@buddytobuddy.nl
DTSTART;TZID=Europe/Amsterdam:20240807T190000
DTEND;TZID=Europe/Amsterdam:20240807T210000
DTSTAMP:20240711T134817Z
URL:https://buddytobuddy.nl/event/pubquiz-zomerprogramma-mooiwerk/
SUMMARY:Pubquiz zomerprogramma MooiWerk
DESCRIPTION:Doe jij vrijwilligerswerk in Breda? En wil je iets leuks doen? 
 Samen met MooiWerk organiseren wij een pub quiz.\n\nAanmelden via https://
 mooiwerkbreda.nl/zomerprogramma/\n\nHoeveel weet jij van het mooie Breda?\
 nKlaar om je kennis te testen? Start de wedstrijd! Tijdens de pubquiz leer
  je samen met andere vrijwilligers nóg meer over Breda en haar geschieden
 is. Wie heeft de meeste antwoorden goed? Die wint natuurlijk de eer… Maa
 r ook nog een kleine\, leuke prijs!\n\nWie kan er meedoen?\nIedereen die v
 rijwilligerswerk doet in Breda óf dat graag wil gaan doen\, mag meedoen m
 et het zomerprogramma. Tip: dit jaar hebben we een +1 actie. Jij mag dus i
 emand meenemen. Kom gezellig met een broer\, zus\, vriend\, vriendin of co
 llega!\n\n‼️ Let op ‼️ Wil je samen met iemand komen? Dan moeten j
 ullie je allebei apart inschrijven. Neem je iemand mee\, maar staat die pe
 rsoon niet ingeschreven? Dan kan hij/zij helaas niet meedoen.\n\nHoe werkt
  het?\nOngeveer 1 week vóór de activiteit krijg jij van ons een herinner
 ingsmail met daarin alle informatie.\n\nAanmelden &amp\; Afmelden\nWil jij
  meedoen? Meld je dan snel aan door onder in de training te klikken op ‘
 ja ik ben er bij’. Kun jij onverwacht toch niet meedoen? Stuur dan uiter
 lijk 24 uur vóór de start van de bijeenkomst een mailtje naar workshops@
 mooiwerkbreda.nl.\n\nReservelijst\nIs de workshop vol en wil jij graag op 
 de reservelijst? Meld je hier aan voor de reservelijst. Vermeld hierin jou
 w naam\, e-mailadres\, telefoonnummer en voor welke bijeenkomst jij graag 
 op de reservelijst zou willen. Als er een plaatsje vrijkomt\, nemen wij zo
  snel mogelijk contact met jou op!\n\nOnze tip: vermeld bij de aanmelding 
 voor de reservelijst jouw naam\, e-mailadres\, telefoonnummer en voor welk
 e activiteit jij graag op de reservelijst zou willen. Als er een plaatsje 
 vrijkomt\, nemen wij zo snel mogelijk contact met jou op!\n\nVragen?\nKom 
 je er niet uit of heb je vragen? Neem contact op met Mooiwerk via workshop
 s@mooiwerkbreda.nl – Zij helpen je dan graag verder!
ATTACH;FMTTYPE=image/jpeg:https://buddytobuddy.nl/wp-content/uploads/2024/
 07/pubquiz.png
CATEGORIES:Breda
END:VEVENT
BEGIN:VTIMEZONE
TZID:Europe/Amsterdam
X-LIC-LOCATION:Europe/Amsterdam
BEGIN:DAYLIGHT
DTSTART:20240331T030000
TZOFFSETFROM:+0100
TZOFFSETTO:+0200
TZNAME:CEST
END:DAYLIGHT
END:VTIMEZONE
END:VCALENDAR