BEGIN:VCALENDAR
VERSION:2.0
PRODID:-//wp-events-plugin.com//7.2.3.1//EN
BEGIN:VEVENT
UID:1-3931@buddytobuddy.nl
DTSTART;TZID=Europe/Amsterdam:20260509T193000
DTEND;TZID=Europe/Amsterdam:20260509T213000
DTSTAMP:20260421T102630Z
URL:https://buddytobuddy.nl/event/open-feest-zeist/
SUMMARY:Open Feest Zeist
DESCRIPTION:Voor de groep buddy's van matchingsronde 8 zit het avontuur er 
 al weer op\; zij zullen eerst samen eten en nagenieten van alles wat ze sa
 men hebben beleefd.\n\nDaarna is het feest open voor iedereen! Dus kom gez
 ellig langs om te kletsen\, dansen (jaja!) of om eens kennis te maken met 
 Buddy to Buddy Zeist als je nieuwsgierig bent.\n\nWe ontmoeten je graag!\n
 Aanmelden kan via zeist@buddytobuddy.nl\, maar spontaan binnenlopen kan oo
 k altijd.\nWarme groet\, team Zeist
ATTACH;FMTTYPE=image/jpeg:https://buddytobuddy.nl/wp-content/uploads/2026/
 04/DSC05238-scaled.jpg
CATEGORIES:Zeist
END:VEVENT
BEGIN:VTIMEZONE
TZID:Europe/Amsterdam
X-LIC-LOCATION:Europe/Amsterdam
BEGIN:DAYLIGHT
DTSTART:20260329T030000
TZOFFSETFROM:+0100
TZOFFSETTO:+0200
TZNAME:CEST
END:DAYLIGHT
END:VTIMEZONE
END:VCALENDAR