BEGIN:VCALENDAR
VERSION:2.0
PRODID:-//wp-events-plugin.com//7.2.3.1//EN
BEGIN:VEVENT
UID:1-2443@buddytobuddy.nl
DTSTART;TZID=Europe/Amsterdam:20240905T190000
DTEND;TZID=Europe/Amsterdam:20240905T210000
DTSTAMP:20240815T134158Z
URL:https://buddytobuddy.nl/event/online-informatiemoment-deventernaren/
SUMMARY:Online informatiemoment Deventenaren
DESCRIPTION:Buddy to Buddy Deventer brengt nieuwkomers\, die gedwongen ware
 n hun land te verlaten\, in contact met stadsgenoten voor een gelijkwaardi
 g contact.\nOm ervoor te zorgen dat je goed voorbereid als buddy kunt star
 ten\, nodigen we je uit voor onze (vrijblijvende) online informatieavond o
 p donderdag 5 september 2024 om 19:00 uur. Tijdens deze avond hoor je alle
 s over het buddytraject\, luister je naar inspirerende ervaringsverhalen e
 n kun je al je vragen stellen. Na afloop horen we graag of we op jou kunne
 n rekenen als buddy!\nJe kunt inbellen via de volgende link: meet.google.c
 om/frx-opyy-osf
CATEGORIES:Deventer
END:VEVENT
BEGIN:VTIMEZONE
TZID:Europe/Amsterdam
X-LIC-LOCATION:Europe/Amsterdam
BEGIN:DAYLIGHT
DTSTART:20240331T030000
TZOFFSETFROM:+0100
TZOFFSETTO:+0200
TZNAME:CEST
END:DAYLIGHT
END:VTIMEZONE
END:VCALENDAR