BEGIN:VCALENDAR
VERSION:2.0
PRODID:-//wp-events-plugin.com//7.2.3.1//EN
BEGIN:VEVENT
UID:1-2445@buddytobuddy.nl
DTSTART;TZID=Europe/Amsterdam:20240827T190000
DTEND;TZID=Europe/Amsterdam:20240827T210000
DTSTAMP:20240722T132607Z
URL:https://buddytobuddy.nl/event/online-informatiemoment-deventer-nieuwko
 mers/
SUMMARY:Online informatiemoment Deventer - Nieuwkomers
DESCRIPTION:Buddy to Buddy Deventer brengt nieuwkomers\, die gedwongen ware
 n hun land te verlaten\, in contact met stadsgenoten voor een gelijkwaardi
 g contact.\nOm ervoor te zorgen dat je goed voorbereid als buddy kunt star
 ten\, nodigen we je uit voor ons online informatieavond op dinsdag 27 augu
 stus 2024 om 19:00 uur. Tijdens deze avond hoor je alles over het buddytra
 ject\, luister je naar inspirerende ervaringsverhalen en kun je al je vrag
 en stellen. Na afloop horen we graag of we op jou kunnen rekenen als buddy
 !\nJe kunt inbellen via de volgende link: meet.google.com/aks-jwbb-ojj
CATEGORIES:Deventer
END:VEVENT
BEGIN:VTIMEZONE
TZID:Europe/Amsterdam
X-LIC-LOCATION:Europe/Amsterdam
BEGIN:DAYLIGHT
DTSTART:20240331T030000
TZOFFSETFROM:+0100
TZOFFSETTO:+0200
TZNAME:CEST
END:DAYLIGHT
END:VTIMEZONE
END:VCALENDAR