BEGIN:VCALENDAR
VERSION:2.0
PRODID:-//wp-events-plugin.com//7.2.3.1//EN
BEGIN:VEVENT
UID:1-2454@buddytobuddy.nl
DTSTART;TZID=Europe/Amsterdam:20240903T193000
DTEND;TZID=Europe/Amsterdam:20240903T210000
DTSTAMP:20240805T131455Z
URL:https://buddytobuddy.nl/event/online-informatieavond-nederlanders/
SUMMARY:ONLINE informatieavond Nederlanders
DESCRIPTION:Online informatieavond
ATTACH;FMTTYPE=image/jpeg:https://buddytobuddy.nl/wp-content/uploads/2024/
 08/Amersfoort.png
CATEGORIES:Amersfoort
END:VEVENT
BEGIN:VTIMEZONE
TZID:Europe/Amsterdam
X-LIC-LOCATION:Europe/Amsterdam
BEGIN:DAYLIGHT
DTSTART:20240331T030000
TZOFFSETFROM:+0100
TZOFFSETTO:+0200
TZNAME:CEST
END:DAYLIGHT
END:VTIMEZONE
END:VCALENDAR