BEGIN:VCALENDAR
VERSION:2.0
PRODID:-//wp-events-plugin.com//7.2.3.1//EN
BEGIN:VEVENT
UID:1-3265@buddytobuddy.nl
DTSTART;TZID=Europe/Amsterdam:20250916T200000
DTEND;TZID=Europe/Amsterdam:20250916T210000
DTSTAMP:20250709T102025Z
URL:https://buddytobuddy.nl/event/online-informatieavond-9/
SUMMARY:Online informatieavond
DESCRIPTION:Dit najaar gaan we weer van start met een nieuwe Buddy-ronde en
  jij kunt nog buddy worden! \n\nOp 30 september starten we met een groep n
 ieuwe buddy's. Maar voordat het zover is\, nodigen we je uit om deel te ne
 men aan onze informatieavond\, zodat je goed voorbereid aan je avontuur al
 s Buddy kunt beginnen. We vertellen wat het inhoudt om Buddy te worden\, j
 e krijgt meer informatie over het traject en je kunt al je vragen stellen.
  \n\nIedereen is welkom! Aanmelden kan via deze link. Je ontvangt dan via 
 de mail de link naar de online bijeenkomst.\n\nWe zien je graag dan! \n\n\
 n
CATEGORIES:Utrechtse Heuvelrug
END:VEVENT
BEGIN:VTIMEZONE
TZID:Europe/Amsterdam
X-LIC-LOCATION:Europe/Amsterdam
BEGIN:DAYLIGHT
DTSTART:20250330T030000
TZOFFSETFROM:+0100
TZOFFSETTO:+0200
TZNAME:CEST
END:DAYLIGHT
END:VTIMEZONE
END:VCALENDAR