BEGIN:VCALENDAR
VERSION:2.0
PRODID:-//wp-events-plugin.com//7.2.3.1//EN
BEGIN:VEVENT
UID:1-2827@buddytobuddy.nl
DTSTART;TZID=Europe/Amsterdam:20260920T130000
DTEND;TZID=Europe/Amsterdam:20260920T180000
DTSTAMP:20260214T084905Z
URL:https://buddytobuddy.nl/event/mozaik-van-breda/
SUMMARY:Doe mee met de 2e editie van Mozaïek van Breda ♦️
DESCRIPTION:Op zondagmiddag 20 september 2026 organiseren we\, na de eerste
  succesvolle editie\, nu een tweede editie van Mozaїek van Breda. Een mul
 ticulturele dag vol verbinding. Ook nu weer zijn muziek\, dans\, kunst\, k
 leding\, eten\, sport en spel de ingrediënten voor deze dag.\nWe zijn op 
 zoek naar personen en groepen die hieraan een bijdrage willen leveren. Vi
 nd jij het leuk om jezelf\, jullie muziek of dansgroep\, kunst of culinair
 e versnaperingen te presenteren\, laat het ons weten. Ook als je je organi
 satorische talenten in wilt zetten horen we dat graag.\n\n\nBuddy to Buddy
  organiseert Mozaїek van Breda samen met Hello Breda\, Stichting Prisma\
 , Mondiaal Centrum en Tientjes.\n\nMeld je aan via deze link! We kijken ui
 t naar jullie bijdrage!\n\nTeam Mozaїek van Breda\n\nKijk hier nog even t
 erug naar de eerste editie:\nhttps://drive.google.com/file/d/1VJ_Rv2S1d9_c
 y6ybm9nDev2B1Kg8gkF5/view?usp=sharing\n\n\n\n\n----\nJoin Mozaїek van Bre
 da!\nOn Sunday afternoon\, 20 September 2026\, following the success of th
 e first edition\, we are organising a second edition of Mozaїek van Breda
 . A multicultural day full of connection. Once again\, music\, dance\, art
 \, clothing\, food\, sports and games will be the ingredients for this day
 .\n\nWe are looking for individuals and groups who would like to contribut
 e to this event. If you would like to present yourself\, your music or dan
 ce group\, art or culinary delicacies\, please let us know. We would also 
 love to hear from you if you would like to put your organisational talents
  to good use.\n\nBuddy to Buddy is organising Mozaїek van Breda together 
 with Hello Breda\, Stichting Prisma\, Mondiaal Centrum and Tientjes.\n\nLe
 t us know through this link! We look forward to your contribution!\n\nTeam
  Mozaїek van Breda\n\n---\nBreda Mozaїek'e katılın!\n20 Eylül 2026 Pa
 zar öğleden sonra\, ilk başarılı etkinliğin ardından\, Breda Mozaї
 ek'in ikinci etkinliğini düzenliyoruz. Bağlantılarla dolu çok kültü
 rlü bir gün. Bu günün de yine müzik\, dans\, sanat\, giyim\, yemek\, 
 spor ve oyunlar ana unsurları olacak.\n\nBu etkinliğe katkıda bulunmak 
 isteyen kişi ve gruplar arıyoruz. Kendinizi\, müzik veya dans grubunuzu
 \, sanatınızı veya mutfak lezzetlerinizi tanıtmak isterseniz\, bize ha
 ber verin. Organizasyon yeteneklerinizi kullanmak isterseniz de bunu bize 
 bildirin.\n\nBuddy to Buddy\, Mozaїek van Breda'yı Hello Breda\, Stichti
 ng Prisma\, Mondiaal Centrum ve Tientjes ile birlikte düzenliyor.\n\nKatk
 ılarınızı bekliyoruz!\n\nMozaїek van Breda Ekibi\n\n---\nانضم إ
 لى Mozaїek في بريدا!\nبعد النجاح الذي حققته ا
 لنسخة الأولى، ننظم يوم الأحد 20 سبتمبر 2026 
 النسخة الثانية من Mozaїek van Breda. يوم متعدد ا
 لثقافات مليء بالتواصل. ومرة أخرى، ستكون 
 الموسيقى والرقص والفن والملابس والطعام 
 والرياضة والألعاب هي المكونات الأساسية 
 لهذا اليوم.\n\nنحن نبحث عن أفراد ومجموعات 
 يرغبون في المساهمة في هذا الحدث. إذا كنت 
 ترغب في تقديم نفسك أو مجموعتك الموسيقية 
 أو الراقصة أو الفنية أو المأكولات الخاصة
  بك، فأخبرنا بذلك. إذا كنت ترغب في استخدا
 م مواهبك التنظيمية، فنحن نرحب بذلك أيضًا
 .\n\nتنظم Buddy to Buddy Mozaїek van Breda بالتعاون مع Hell
 o Breda و Stichting Prisma و Mondiaal Centrum و Tientjes.\n\nنحن ن
 تطلع إلى مساهمتكم!\n\nفريق Mozaїek van Breda
ATTACH;FMTTYPE=image/jpeg:https://buddytobuddy.nl/wp-content/uploads/2024/
 11/mozaik-van-Breda-ontdek-beleef-verbind-1-e1771058801829.png
CATEGORIES:Breda
END:VEVENT
BEGIN:VTIMEZONE
TZID:Europe/Amsterdam
X-LIC-LOCATION:Europe/Amsterdam
BEGIN:DAYLIGHT
DTSTART:20260329T030000
TZOFFSETFROM:+0100
TZOFFSETTO:+0200
TZNAME:CEST
END:DAYLIGHT
END:VTIMEZONE
END:VCALENDAR