BEGIN:VCALENDAR
VERSION:2.0
PRODID:-//wp-events-plugin.com//7.2.3.1//EN
BEGIN:VEVENT
UID:1-3833@buddytobuddy.nl
DTSTART;TZID=Europe/Amsterdam:20260420T183000
DTEND;TZID=Europe/Amsterdam:20260420T210000
DTSTAMP:20260303T152835Z
URL:https://buddytobuddy.nl/event/matchingsdiner-start-van-ronde-32/
SUMMARY:Matchingsdiner - Start van Ronde 32
DESCRIPTION:Een feestelijke start van jouw buddy-avontuur!\n\nAlle buddy-ko
 ppels ontmoeten elkaar voor het eerst tijdens een feestelijk diner\, wat h
 ét startmoment vormt van het buddytraject.\n\nWil jij daarbij zijn? Meld 
 je dan hier aan als Utrechtse Buddy. Wij nemen contact met je op\, vertell
 en je alles wat je moet weten en beantwoorden al je vragen. Zo begin je go
 ed geïnformeerd én vol vertrouwen aan jouw buddy-avontuur.
CATEGORIES:Utrecht
END:VEVENT
BEGIN:VTIMEZONE
TZID:Europe/Amsterdam
X-LIC-LOCATION:Europe/Amsterdam
BEGIN:DAYLIGHT
DTSTART:20260329T030000
TZOFFSETFROM:+0100
TZOFFSETTO:+0200
TZNAME:CEST
END:DAYLIGHT
END:VTIMEZONE
END:VCALENDAR