BEGIN:VCALENDAR
VERSION:2.0
PRODID:-//wp-events-plugin.com//7.2.3.1//EN
BEGIN:VEVENT
UID:1-3940@buddytobuddy.nl
DTSTART;TZID=Europe/Amsterdam:20260514T090000
DTEND;TZID=Europe/Amsterdam:20260514T123000
DTSTAMP:20260424T130315Z
URL:https://buddytobuddy.nl/event/klootschiettoernooi-lochem/
SUMMARY:Klootschiettoernooi Lochem
DESCRIPTION:Tijdens de Keidagen doen we met Buddy to Buddy mee aan het geze
 llige klootschiettoernooi\, georganiseerd door KV De Heksenkring. We start
 en met koffie/thee en gebakken eieren met spek. Daarna lopen we samen een 
 route van ±4 km.\n\n🕢 09:00 – 12:30\n📍 Clubhuis KV Klein Dochtere
 n\, Kijksteeg 8\, Lochem\n⚠️ Beperkt aantal plekken → aanmelden vó
 ór 8 mei via WhatsApp/mail (VOL = VOL)
CATEGORIES:Lochem
LOCATION:Clubhuis KV Klein Dochteren\, Kijksteeg 8\, Lochem\, 
GEO:52.153392;6.371459
X-APPLE-STRUCTURED-LOCATION;VALUE=URI;X-ADDRESS=Kijksteeg 8\, Lochem\, ;X-A
 PPLE-RADIUS=100;X-TITLE=Clubhuis KV Klein Dochteren:geo:52.153392,6.371459
END:VEVENT
BEGIN:VTIMEZONE
TZID:Europe/Amsterdam
X-LIC-LOCATION:Europe/Amsterdam
BEGIN:DAYLIGHT
DTSTART:20260329T030000
TZOFFSETFROM:+0100
TZOFFSETTO:+0200
TZNAME:CEST
END:DAYLIGHT
END:VTIMEZONE
END:VCALENDAR