BEGIN:VCALENDAR
VERSION:2.0
PRODID:-//wp-events-plugin.com//7.2.3.1//EN
BEGIN:VEVENT
UID:1-2450@buddytobuddy.nl
DTSTART;TZID=Europe/Amsterdam:20240824T133000
DTEND;TZID=Europe/Amsterdam:20240824T170000
DTSTAMP:20240717T183010Z
URL:https://buddytobuddy.nl/event/jeu-de-boules-%f0%9f%a4%b9/
SUMMARY:Jeu de boules 🤹
DESCRIPTION:In navolging van een hele geslaagde tennisochtend. Gaan we op z
 aterdagmiddag 24 augustus gaan we samen jeu-de-boulen.\n\nWe gaan dit doen
  bij de jeu de boulesvereniging Va-tout. De vereniging heeft een aantal ba
 nen ter beschikking gesteld waarvan we gratis gebruik mogen maken.\n\nDe s
 peeltijd is van 13:30 tot 17:00 u. De club vind je bij de: Nieuwe Inslag 8
 9\, 4817 GN Breda. Je hebt geen speciale kleding nodig en we mogen gebruik
  maken van het materiaal van de club. Aan het begin worden de spelregels u
 itgelegd.\n\nGraag vooraf melden of je komt dan wordt het spelmateriaal kl
 aargelegd. Je kunt aanmelden via het event op de facebookpagina of mailen 
 naar breda@buddytobuddy.nl\n\n\nHopelijk tot de 24e  🤗\n
ATTACH;FMTTYPE=image/jpeg:https://buddytobuddy.nl/wp-content/uploads/2024/
 07/Scherm­afbeelding-2024-07-17-om-18.31.13.png
CATEGORIES:Breda
END:VEVENT
BEGIN:VTIMEZONE
TZID:Europe/Amsterdam
X-LIC-LOCATION:Europe/Amsterdam
BEGIN:DAYLIGHT
DTSTART:20240331T030000
TZOFFSETFROM:+0100
TZOFFSETTO:+0200
TZNAME:CEST
END:DAYLIGHT
END:VTIMEZONE
END:VCALENDAR