BEGIN:VCALENDAR
VERSION:2.0
PRODID:-//wp-events-plugin.com//7.2.3.1//EN
BEGIN:VEVENT
UID:1-2442@buddytobuddy.nl
DTSTART;TZID=Europe/Amsterdam:20240904T190000
DTEND;TZID=Europe/Amsterdam:20240904T210000
DTSTAMP:20240815T134142Z
URL:https://buddytobuddy.nl/event/informatiemoment-deventernaren/
SUMMARY:Informatiemoment Deventenaren
DESCRIPTION:Buddy to Buddy Deventer brengt nieuwkomers\, die gedwongen ware
 n hun land te verlaten\, in contact met stadsgenoten voor een gelijkwaardi
 g contact.\n\nOm ervoor te zorgen dat je goed voorbereid als buddy kunt st
 arten\, nodigen we je uit voor ons (vrijblijvende) informatiemoment op woe
 nsdag 4 september 2024 om 19:00 uur bij Iedereen aan Boord aan de Achter d
 e Muren-Zandpoort 10\, Deventer. Tijdens deze avond hoor je alles over het
  buddytraject\, luister je naar inspirerende ervaringsverhalen en kun je a
 l je vragen stellen. Na afloop horen we graag of we op jou kunnen rekenen 
 als buddy!
CATEGORIES:Deventer
LOCATION:Iedereen aan Boord\, Achter de Muren-Zandpoort 10\, Deventer\, Ned
 erland\, 7411 GE\, Nederland
GEO:52.250641;6.16094
X-APPLE-STRUCTURED-LOCATION;VALUE=URI;X-ADDRESS=Achter de Muren-Zandpoort 1
 0\, Deventer\, Nederland\, 7411 GE\, Nederland;X-APPLE-RADIUS=100;X-TITLE=
 Iedereen aan Boord:geo:52.250641,6.16094
END:VEVENT
BEGIN:VTIMEZONE
TZID:Europe/Amsterdam
X-LIC-LOCATION:Europe/Amsterdam
BEGIN:DAYLIGHT
DTSTART:20240331T030000
TZOFFSETFROM:+0100
TZOFFSETTO:+0200
TZNAME:CEST
END:DAYLIGHT
END:VTIMEZONE
END:VCALENDAR