BEGIN:VCALENDAR
VERSION:2.0
PRODID:-//wp-events-plugin.com//7.2.3.1//EN
BEGIN:VEVENT
UID:1-2444@buddytobuddy.nl
DTSTART;TZID=Europe/Amsterdam:20240820T190000
DTEND;TZID=Europe/Amsterdam:20240820T210000
DTSTAMP:20241101T083134Z
URL:https://buddytobuddy.nl/event/informatiemoment-deventer-nieuwkomers/
SUMMARY:Informatiemoment Deventer - Nieuwkomers
DESCRIPTION:Buddy to Buddy Deventer brengt nieuwkomers\, die gedwongen ware
 n hun land te verlaten\, in contact met stadsgenoten voor een gelijkwaardi
 g contact.\n\nOm ervoor te zorgen dat je goed voorbereid als buddy kunt st
 arten\, nodigen we je uit voor ons informatiemoment op dinsdag 12 november
  2024 om 19:30 uur bij het Iedereen aan Boord\, Achter de Muren-Zandpoort 
 10 Deventer. Tijdens deze avond hoor je alles over het buddytraject\, luis
 ter je naar inspirerende ervaringsverhalen en kun je al je vragen stellen.
  Na afloop horen we graag of we op jou kunnen rekenen als buddy!
CATEGORIES:Deventer
END:VEVENT
BEGIN:VTIMEZONE
TZID:Europe/Amsterdam
X-LIC-LOCATION:Europe/Amsterdam
BEGIN:DAYLIGHT
DTSTART:20240331T030000
TZOFFSETFROM:+0100
TZOFFSETTO:+0200
TZNAME:CEST
END:DAYLIGHT
END:VTIMEZONE
END:VCALENDAR