BEGIN:VCALENDAR
VERSION:2.0
PRODID:-//wp-events-plugin.com//7.2.3.1//EN
BEGIN:VEVENT
UID:1-3713@buddytobuddy.nl
DTSTART;TZID=Europe/Amsterdam:20260825T190000
DTEND;TZID=Europe/Amsterdam:20260825T210000
DTSTAMP:20260212T192625Z
URL:https://buddytobuddy.nl/event/informatieavond-voor-nederlanders-5/
SUMMARY:Informatieavond voor Nederlanders
DESCRIPTION:Ben jij geïnteresseerd om buddy te worden? Kom dan naar deze i
 nformatieavond.\nBuddy to Buddy Enschede koppelt nieuwkomers die hun land 
 van herkomst moesten verlaten aan stadsgenoten op basis van gelijkwaardigh
 eid en gedeelde interesses.\nTijdens deze informatiebijeenkomst vertellen 
 wij je meer over het buddytraject\, hoor je wat je van ons kunt verwachten
  én wat wij van jou verwachten.\nHeb jij vrienden\, kennissen of familie 
 die het ook leuk vinden om op deze manier kennis te maken met Buddy to Bud
 dy? Neem ze gezellig mee\, want iedereen is welkom!\nZien we je daar?
CATEGORIES:Enschede,Twente
LOCATION:\, Ariënsplein 1\, Enschede\, 7543 XH\, 
GEO:52.216411;6.892064
X-APPLE-STRUCTURED-LOCATION;VALUE=URI;X-ADDRESS=Ariënsplein 1\, Enschede\,
  7543 XH\, ;X-APPLE-RADIUS=100;X-TITLE=:geo:52.216411,6.892064
END:VEVENT
BEGIN:VTIMEZONE
TZID:Europe/Amsterdam
X-LIC-LOCATION:Europe/Amsterdam
BEGIN:DAYLIGHT
DTSTART:20260329T030000
TZOFFSETFROM:+0100
TZOFFSETTO:+0200
TZNAME:CEST
END:DAYLIGHT
END:VTIMEZONE
END:VCALENDAR