BEGIN:VCALENDAR
VERSION:2.0
PRODID:-//wp-events-plugin.com//7.2.3.1//EN
BEGIN:VEVENT
UID:1-3711@buddytobuddy.nl
DTSTART;TZID=Europe/Amsterdam:20260217T190000
DTEND;TZID=Europe/Amsterdam:20260217T210000
DTSTAMP:20260212T192511Z
URL:https://buddytobuddy.nl/event/informatieavond-voor-nederlanders-3/
SUMMARY:Informatieavond voor Nederlanders
DESCRIPTION:Ben jij geïnteresseerd om buddy te worden? Kom dan naar deze i
 nformatieavond.\nBuddy to Buddy Enschede koppelt nieuwkomers die hun land 
 van herkomst moesten verlaten aan stadsgenoten op basis van gelijkwaardigh
 eid en gedeelde interesses.\nTijdens deze informatiebijeenkomst vertellen 
 wij je meer over het buddytraject\, hoor je wat je van ons kunt verwachten
  én wat wij van jou verwachten.\nHeb jij vrienden\, kennissen of familie 
 die het ook leuk vinden om op deze manier kennis te maken met Buddy to Bud
 dy? Neem ze gezellig mee\, want iedereen is welkom!\nZien we je daar?
CATEGORIES:Enschede,Twente
LOCATION:\, Ariënsplein 1\, Enschede\, 7543 XH\, 
GEO:52.216411;6.892064
X-APPLE-STRUCTURED-LOCATION;VALUE=URI;X-ADDRESS=Ariënsplein 1\, Enschede\,
  7543 XH\, ;X-APPLE-RADIUS=100;X-TITLE=:geo:52.216411,6.892064
END:VEVENT
BEGIN:VTIMEZONE
TZID:Europe/Amsterdam
X-LIC-LOCATION:Europe/Amsterdam
BEGIN:STANDARD
DTSTART:20251026T020000
TZOFFSETFROM:+0200
TZOFFSETTO:+0100
TZNAME:CET
END:STANDARD
END:VTIMEZONE
END:VCALENDAR