BEGIN:VCALENDAR
VERSION:2.0
PRODID:-//wp-events-plugin.com//7.2.3.1//EN
BEGIN:VEVENT
UID:1-2451@buddytobuddy.nl
DTSTART;TZID=Europe/Amsterdam:20240909T190000
DTEND;TZID=Europe/Amsterdam:20240909T210000
DTSTAMP:20240909T133944Z
URL:https://buddytobuddy.nl/event/informatieavond-voor-nederlanders-2/
SUMMARY:Informatieavond voor Nederlanders
DESCRIPTION:Pas vier maanden geleden begonnen deze buddy’s al dansend aan
  een nieuw avontuur\; de allereerste Buddy to Buddy ronde in Leusden.\n\nI
 n slechts een paar maanden hebben we mogen zien hoe de buddy’s zich ontw
 ikkelen: ze openden hun wereld voor elkaar\, kwamen bij elkaar op bezoek\,
  wisselden taal\, cultuur en heerlijke recepten uit\, deden leuke activite
 iten en werden stapje voor stapje meer onderdeel van Leusden en Buddy to B
 uddy. Voor verschillende buddy’s nog maar het begin van een mooie vriend
 schap. Niet alleen vriendschap met hun eigen buddy’s maar ook met de and
 ere mensen uit de groep 🍀\n\nBijzonder hoe veel deelnemers aan het begi
 n van de ronde stil binnen kwamen in de groep en nu met het eindfeest iede
 reen elkaar enthousiast begroette en geanimeerd met elkaar in gesprek ging
 .\n\nWil jij ook op wereldreis in Leusden\, door buddy te worden?\n\nOp ma
 andagavond 9 september a.s. organiseren we een informatieavond voor Nederl
 andse buddy’s. We vertellen je dan alles over het buddyschap. Leuk als j
 e komt!\n\nLocatie: De Bron\, Hoefijzer 18 in Leusden\nTijdstip: 19:30-21:
 00\n\nMeld je aan via leusden@buddytobuddy.nl💛
ATTACH;FMTTYPE=image/jpeg:https://buddytobuddy.nl/wp-content/uploads/2024/
 06/Dabke-dansen-scaled.jpg
CATEGORIES:Leusden
END:VEVENT
BEGIN:VTIMEZONE
TZID:Europe/Amsterdam
X-LIC-LOCATION:Europe/Amsterdam
BEGIN:DAYLIGHT
DTSTART:20240331T030000
TZOFFSETFROM:+0100
TZOFFSETTO:+0200
TZNAME:CEST
END:DAYLIGHT
END:VTIMEZONE
END:VCALENDAR