BEGIN:VCALENDAR
VERSION:2.0
PRODID:-//wp-events-plugin.com//7.2.3.1//EN
BEGIN:VEVENT
UID:1-2671@buddytobuddy.nl
DTSTART;TZID=Europe/Amsterdam:20241113T193000
DTEND;TZID=Europe/Amsterdam:20241113T210000
DTSTAMP:20241009T075050Z
URL:https://buddytobuddy.nl/event/informatieavond-nijmegenaren-4/
SUMMARY:Informatieavond Nijmegenaren
DESCRIPTION:Benieuwd naar Buddy to Buddy? Kom naar een informatieavond!
ATTACH;FMTTYPE=image/jpeg:https://buddytobuddy.nl/wp-content/uploads/2023/
 10/BuddyToBuddy_061©JurriaanHuting-scaled.jpg
CATEGORIES:Nijmegen
END:VEVENT
BEGIN:VTIMEZONE
TZID:Europe/Amsterdam
X-LIC-LOCATION:Europe/Amsterdam
BEGIN:STANDARD
DTSTART:20241027T020000
TZOFFSETFROM:+0200
TZOFFSETTO:+0100
TZNAME:CET
END:STANDARD
END:VTIMEZONE
END:VCALENDAR