BEGIN:VCALENDAR
VERSION:2.0
PRODID:-//wp-events-plugin.com//7.2.3.1//EN
BEGIN:VEVENT
UID:1-2455@buddytobuddy.nl
DTSTART;TZID=Europe/Amsterdam:20240827T190000
DTEND;TZID=Europe/Amsterdam:20240827T210000
DTSTAMP:20240805T132346Z
URL:https://buddytobuddy.nl/event/informatieavond-nieuwkomers-5/
SUMMARY:Informatieavond nieuwkomers
DESCRIPTION:Kom naar de informatieavond voor nieuwkomers met Arabisch\, Eng
 els en Turkse tolk.
ATTACH;FMTTYPE=image/jpeg:https://buddytobuddy.nl/wp-content/uploads/2024/
 08/Amersfoort.png
CATEGORIES:Amersfoort
LOCATION:Huiskamer Amersfoort\, stationsplein 16\, Amersfoort\, 3818 LE\, N
 ederland
GEO:52.152661;5.374863
X-APPLE-STRUCTURED-LOCATION;VALUE=URI;X-ADDRESS=stationsplein 16\, Amersfoo
 rt\, 3818 LE\, Nederland;X-APPLE-RADIUS=100;X-TITLE=Huiskamer Amersfoort:g
 eo:52.152661,5.374863
END:VEVENT
BEGIN:VTIMEZONE
TZID:Europe/Amsterdam
X-LIC-LOCATION:Europe/Amsterdam
BEGIN:DAYLIGHT
DTSTART:20240331T030000
TZOFFSETFROM:+0100
TZOFFSETTO:+0200
TZNAME:CEST
END:DAYLIGHT
END:VTIMEZONE
END:VCALENDAR