BEGIN:VCALENDAR
VERSION:2.0
PRODID:-//wp-events-plugin.com//7.2.3.1//EN
BEGIN:VEVENT
UID:1-3832@buddytobuddy.nl
DTSTART;TZID=Europe/Amsterdam:20260331T191500
DTEND;TZID=Europe/Amsterdam:20260331T210000
DTSTAMP:20260303T152246Z
URL:https://buddytobuddy.nl/event/informatieavond-nederlanders-26/
SUMMARY:Informatieavond - Nederlanders
DESCRIPTION:Word buddy in Utrecht!\n\nWat leuk dat je interesse hebt in Bud
 dy to Buddy. In april starten we met een nieuwe ronde van ons vier maanden
  durende buddytraject in Utrecht.\nBuddy to Buddy Utrecht koppelt nieuwkom
 ers met een vluchtverleden aan stadsgenoten op basis van gelijkwaardigheid
  en gedeelde interesses. Zo bouwen we samen aan echte ontmoetingen en nieu
 we verbindingen in de stad.\nBenieuwd hoe dat eruitziet? Kom dan naar onze
  informatieavond op dinsdag 31 maart en ontdek wat het betekent om buddy t
 e worden. We vertellen je alles over het traject\, delen ervaringen van hu
 idige buddy’s en er is volop ruimte voor je vragen. Wil je je meteen aan
 melden? Daar helpen we je graag ter plekke bij!\nLet op: deze informatieav
 ond is bedoeld voor Nederlandse Utrechters\, of voor mensen die al langere
  tijd in Nederland (Utrecht\, e.o.) wonen. Je wordt gekoppeld aan een nieu
 wkomer met een vluchtverleden.\nInformatieavond 31 maart\nInloop 19u15\, s
 tart 19u30\nJonkvrouw Sanderijndreef 35 in Utrecht\n\nStuur een mailtje na
 ar utrecht@buddytobuddy.nl om je aan te melden. \n\nHopelijk tot dan!
CATEGORIES:Utrecht
END:VEVENT
BEGIN:VTIMEZONE
TZID:Europe/Amsterdam
X-LIC-LOCATION:Europe/Amsterdam
BEGIN:DAYLIGHT
DTSTART:20260329T030000
TZOFFSETFROM:+0100
TZOFFSETTO:+0200
TZNAME:CEST
END:DAYLIGHT
END:VTIMEZONE
END:VCALENDAR