BEGIN:VCALENDAR
VERSION:2.0
PRODID:-//wp-events-plugin.com//7.2.3.1//EN
BEGIN:VEVENT
UID:1-3710@buddytobuddy.nl
DTSTART;TZID=Europe/Amsterdam:20260210T190000
DTEND;TZID=Europe/Amsterdam:20260210T210000
DTSTAMP:20260212T192034Z
URL:https://buddytobuddy.nl/event/informatieavond-nederlanders-25/
SUMMARY:Informatieavond Nederlanders
DESCRIPTION:Ben jij geïnteresseerd om Buddy te worden? Kom dan naar deze i
 nformatieavond.\n\nBuddy to Buddy Enschede koppelt nieuwkomers die hun lan
 d van herkomst moesten verlaten aan stadsgenoten op basis van gelijkwaardi
 gheid en gedeelde interesses.\n\nTijdens deze informatiebijeenkomst vertel
 len wij je meer over het Buddytraject\, hoor je wat je van ons kan verwach
 ten én wat wij van jou verwachten.\n\nHeb jij vrienden/kennissen/familie 
 die het ook leuk vinden om op deze manier kennis te maken met Buddy to Bud
 dy? Neem ze gezellig mee\, want iedereen is welkom!\n\nZien we je daar?
CATEGORIES:Enschede,Twente
LOCATION:\, Ariënsplein 1\, Enschede\, 7543 XH\, 
GEO:52.216411;6.892064
X-APPLE-STRUCTURED-LOCATION;VALUE=URI;X-ADDRESS=Ariënsplein 1\, Enschede\,
  7543 XH\, ;X-APPLE-RADIUS=100;X-TITLE=:geo:52.216411,6.892064
END:VEVENT
BEGIN:VTIMEZONE
TZID:Europe/Amsterdam
X-LIC-LOCATION:Europe/Amsterdam
BEGIN:STANDARD
DTSTART:20251026T020000
TZOFFSETFROM:+0200
TZOFFSETTO:+0100
TZNAME:CET
END:STANDARD
END:VTIMEZONE
END:VCALENDAR