BEGIN:VCALENDAR
VERSION:2.0
PRODID:-//wp-events-plugin.com//7.2.3.1//EN
BEGIN:VEVENT
UID:1-3763@buddytobuddy.nl
DTSTART;TZID=Europe/Amsterdam:20260225T173000
DTEND;TZID=Europe/Amsterdam:20260225T210000
DTSTAMP:20260219T153753Z
URL:https://buddytobuddy.nl/event/iftar/
SUMMARY:IFTAR - Samen eten
DESCRIPTION:🌟 RAMADAN MUBARAK 🌟\n\n25 februari 2026 – 17.30\n\nDe r
 amadan is begonnen! Dat betekent dat het weer tijd is voor onze jaarlijkse
  Iftar.\n\nIedereen kookt iets lekkers en samen eten we aan lange tafels. 
 Een avond om samen het vasten te breken\, nieuwe mensen te ontmoeten\, gez
 ellig te kletsen en te genieten van eten van over de hele wereld.\n\nKom v
 ooral langs en schuif aan. We maken er samen een mooie en warme avond van.
  🌙✨\n\n
CATEGORIES:Zutphen
LOCATION:Huiskamer Buddy to Buddy Zutphen\, Kerkhof 1a\, Zutphen\, Gelderla
 nd\, 7201DM\, Nederland
GEO:52.1398839;6.1963726999999835
X-APPLE-STRUCTURED-LOCATION;VALUE=URI;X-ADDRESS=Kerkhof 1a\, Zutphen\, Geld
 erland\, 7201DM\, Nederland;X-APPLE-RADIUS=100;X-TITLE=Huiskamer Buddy to 
 Buddy Zutphen:geo:52.1398839,6.1963726999999835
END:VEVENT
BEGIN:VTIMEZONE
TZID:Europe/Amsterdam
X-LIC-LOCATION:Europe/Amsterdam
BEGIN:STANDARD
DTSTART:20251026T020000
TZOFFSETFROM:+0200
TZOFFSETTO:+0100
TZNAME:CET
END:STANDARD
END:VTIMEZONE
END:VCALENDAR