BEGIN:VCALENDAR
VERSION:2.0
PRODID:-//wp-events-plugin.com//7.2.3.1//EN
BEGIN:VEVENT
UID:1-3834@buddytobuddy.nl
DTSTART;TZID=Europe/Amsterdam:20260317T180000
DTEND;TZID=Europe/Amsterdam:20260317T210000
DTSTAMP:20260303T154528Z
URL:https://buddytobuddy.nl/event/iftar-met-stichting-secu-in-utrecht/
SUMMARY:Iftar met stichting SECU in Utrecht
DESCRIPTION:Op dinsdag 17 maart gaan we samen iftar eten om het vasten van 
 de Ramadan te verbreken. Het eten wordt verzorgd door Stichting Secu. Dee
 lname en eten zijn gratis! Daarna doen we nog een leuke activiteit. ✨\n\
 nOm te weten voor hoeveel mensen er gekookt moet worden\, is het belangrij
 k dat je je aanmeldt via dit formulier. Iedereen is welkom\, ongeacht je r
 eligie en of je wel/niet vast.\n\n🗓️ Dinsdag 17 maart\n🕕 Inloop: 1
 7:45\n📍 Younity (Jonkvrouw Sanderijndreef 35\, Utrecht)\n\nTot dan!
CATEGORIES:Utrecht
END:VEVENT
BEGIN:VTIMEZONE
TZID:Europe/Amsterdam
X-LIC-LOCATION:Europe/Amsterdam
BEGIN:STANDARD
DTSTART:20251026T020000
TZOFFSETFROM:+0200
TZOFFSETTO:+0100
TZNAME:CET
END:STANDARD
END:VTIMEZONE
END:VCALENDAR