BEGIN:VCALENDAR
VERSION:2.0
PRODID:-//wp-events-plugin.com//7.2.3.1//EN
BEGIN:VEVENT
UID:1-3762@buddytobuddy.nl
DTSTART;TZID=Europe/Amsterdam:20260304T173000
DTEND;TZID=Europe/Amsterdam:20260304T210000
DTSTAMP:20260219T124850Z
URL:https://buddytobuddy.nl/event/iftar-met-stichting-amal-collective/
SUMMARY:Iftar met Stichting Amal Collective
DESCRIPTION:Maak kennis\, verbind en laat je inspireren tijdens deze bijzon
 dere gezamenlijke iftar in Enschede. Tijdens deze avond brengen we inwoner
 s\, studenten\, professionals en organisaties samen om het vasten te verbr
 eken en elkaar te ontmoeten in een sfeer van warmte\, respect en openheid.
  We creëren een veilige plek waar ruimte is voor gesprek\, verbinding en 
 wederzijds begrip.\n\nTijdens de avond is er ruimte gereserveerd voor het 
 gebed. Iedereen is van harte welkom.\n\n📅 Woensdag 4 maart\n🕖 17:30 
 inloop\n🕖 18:00 officiële aftrap\n🕖 21:00 einde programma\n📍 Ari
 ënsplein 1\, Enschede (Connect-U)\n\nAanmelden via deze link.\n\nZien we 
 je daar? 😊
CATEGORIES:Enschede,Twente
LOCATION:\, Ariënsplein 1\, Enschede\, 7543 XH\, 
GEO:52.216411;6.892064
X-APPLE-STRUCTURED-LOCATION;VALUE=URI;X-ADDRESS=Ariënsplein 1\, Enschede\,
  7543 XH\, ;X-APPLE-RADIUS=100;X-TITLE=:geo:52.216411,6.892064
END:VEVENT
BEGIN:VTIMEZONE
TZID:Europe/Amsterdam
X-LIC-LOCATION:Europe/Amsterdam
BEGIN:STANDARD
DTSTART:20251026T020000
TZOFFSETFROM:+0200
TZOFFSETTO:+0100
TZNAME:CET
END:STANDARD
END:VTIMEZONE
END:VCALENDAR