BEGIN:VCALENDAR
VERSION:2.0
PRODID:-//wp-events-plugin.com//7.2.3.1//EN
BEGIN:VEVENT
UID:1-2180@buddytobuddy.nl
DTSTART;TZID=Europe/Amsterdam:20240131T190000
DTEND;TZID=Europe/Amsterdam:20240131T210000
DTSTAMP:20240125T113552Z
URL:https://buddytobuddy.nl/event/huiskameravond-6/
SUMMARY:Let op! Huiskamer Breda GESLOTEN wegens schilderwerkzaamheden
DESCRIPTION:Wegens schilderwerkzaamheden is onze huiskamer op woensdag 31 j
 anuari gesloten. We zien je graag weer op zondagochtend 4 februari 
CATEGORIES:Breda
LOCATION:Huiskamer Buddy to Buddy Breda\, Christiaan Huygensstraat 52\, Bre
 da\, 4816 BK\, Nederland
GEO:51.597441;4.787697
X-APPLE-STRUCTURED-LOCATION;VALUE=URI;X-ADDRESS=Christiaan Huygensstraat 52
 \, Breda\, 4816 BK\, Nederland;X-APPLE-RADIUS=100;X-TITLE=Huiskamer Buddy 
 to Buddy Breda:geo:51.597441,4.787697
END:VEVENT
BEGIN:VTIMEZONE
TZID:Europe/Amsterdam
X-LIC-LOCATION:Europe/Amsterdam
BEGIN:STANDARD
DTSTART:20231029T020000
TZOFFSETFROM:+0200
TZOFFSETTO:+0100
TZNAME:CET
END:STANDARD
END:VTIMEZONE
END:VCALENDAR