BEGIN:VCALENDAR
VERSION:2.0
PRODID:-//wp-events-plugin.com//7.2.3.1//EN
BEGIN:VEVENT
UID:1-3750@buddytobuddy.nl
DTSTART;TZID=Europe/Amsterdam:20261014T190000
DTEND;TZID=Europe/Amsterdam:20261014T210000
DTSTAMP:20260214T090706Z
URL:https://buddytobuddy.nl/event/huiskameravond-%e2%9c%a8-2026-02-18-2026
 -02-25-2026-03-04-2026-03-11-2026-03-18-2026-03-25-2026-04-01-2026-04-08-2
 026-04-15-2026-04-22-2026-04-29-2026-05-06-2026-05-13-2026-05-20-2026-05-0
 7-2026-10-14/
SUMMARY:Huiskameravond\, iedere woensdag om 19.00 uur ✨
DESCRIPTION:Iedere woensdagavond komen wij samen in onze Huiskamer tussen 1
 9.00 en 21.00 uur. Om samen te eten\, spelletjes te spelen\, muziek te mak
 en\, koffie/thee te drinken en te kletsen... Komen jij en je buddy ook gez
 ellig een keer langs?\n\nIedere 1e woensdag van de maand: de Buddy Jam Ses
 sie 🎶\nSpeel je een instrument en wil je mee jammen\, meld je aan voor 
 de groepsapp via de linktree. Je bent ook van harte welkom om lekker te ko
 men luisteren of dansen 💃\n\nIedere 3e woensdag van de maand Soepen van
 af 18.00 uur 🍜\nKom je lekker soep eten met ons\, wij zorgen voor soep 
 en brood. Je mag wat lekkers mee te nemen om te delen\, het hoeft niet. Er
  is genoeg\, maar op is op. Wil je ook een keertje soep maken? Laat het on
 s weten 🍲\n\nIedere 4e woensdag Spelletjesavond 🎲\nVan Bingo tot bor
 dspellen\, van een quiz tot sjoelen. Iedere 4e woensdag doen we een spel. 
 Kom gezellig spelen! Wij zorgen voor koffie\, thee en wat lekkers ☕️
 🍪🫖\n\nDe Huiskamer van Buddy to Buddy Breda vind je aan het Edisonpl
 ein\; Christiaan Huygensstraat 52\, te Breda. Voel je vrij om eens aan te 
 schuiven!\n\nTot woensdag! 💛​\n\nCheck onze socials en Linktree voor 
 actuele activiteiten\, everybuddy welcome! 🤗
ATTACH;FMTTYPE=image/jpeg:https://buddytobuddy.nl/wp-content/uploads/2024/
 11/afe6339a-1fd8-4697-8527-b164369a59f5.jpg
CATEGORIES:Breda
LOCATION:Huiskamer Buddy to Buddy Breda\, Christiaan Huygensstraat 52\, Bre
 da\, 4816 BK\, Nederland
GEO:51.597441;4.787697
X-APPLE-STRUCTURED-LOCATION;VALUE=URI;X-ADDRESS=Christiaan Huygensstraat 52
 \, Breda\, 4816 BK\, Nederland;X-APPLE-RADIUS=100;X-TITLE=Huiskamer Buddy 
 to Buddy Breda:geo:51.597441,4.787697
END:VEVENT
BEGIN:VTIMEZONE
TZID:Europe/Amsterdam
X-LIC-LOCATION:Europe/Amsterdam
BEGIN:DAYLIGHT
DTSTART:20260329T030000
TZOFFSETFROM:+0100
TZOFFSETTO:+0200
TZNAME:CEST
END:DAYLIGHT
END:VTIMEZONE
END:VCALENDAR