BEGIN:VCALENDAR
VERSION:2.0
PRODID:-//wp-events-plugin.com//7.2.3.1//EN
BEGIN:VEVENT
UID:1-3929@buddytobuddy.nl
DTSTART;TZID=Europe/Amsterdam:20260613T140000
DTEND;TZID=Europe/Amsterdam:20260613T170000
DTSTAMP:20260421T100228Z
URL:https://buddytobuddy.nl/event/fotografie-workshop-zeist/
SUMMARY:Fotografie Workshop Zeist
DESCRIPTION:Wees welkom bij de Fotografie Workshop in het bos en bij de Pyr
 amide van Austerlitz!\n\nTijdens deze workshop leer je hoe je prachtige fo
 to’s kunt maken met je smartphone. Je ontdekt handige tips en tricks van
  fotografe Gabry\, die dagelijks werkt met het fotograferen van mensen en 
 dieren. We hebben 14 plekken beschikbaar voor vrouwen en deelname gaat op 
 volgorde van aanmelding (vol = vol).\n\nDe Creatieve Vrouwengroep van Budd
 y to Buddy Zeist geeft diverse workshops aan vrouwen die hun land van herk
 omst moesten verlaten en aan vrouwen uit Zeist en omgeving. Zo kunnen zij 
 zichzelf ontdekken en elkaar als vrouwen in hun kracht zetten. De workshop
 s zorgen voor verbinding met elkaar en met je eigen creativiteit\, vrouwel
 ijke energie en kracht. Alle vrouwen kunnen meedoen en de activiteiten zij
 n gratis.\n\nWil je meedoen of meer weten?\nVoeg jezelf toe aan deze Whats
 app-groep voor alle informatie over de volgende workshops en voor kennisma
 king met de vrouwen\, of meld je aan via zeist@buddytobuddy.nl.
ATTACH;FMTTYPE=image/jpeg:https://buddytobuddy.nl/wp-content/uploads/2026/
 04/Schermafbeelding-2026-04-21-115951.png
CATEGORIES:Zeist
END:VEVENT
BEGIN:VTIMEZONE
TZID:Europe/Amsterdam
X-LIC-LOCATION:Europe/Amsterdam
BEGIN:DAYLIGHT
DTSTART:20260329T030000
TZOFFSETFROM:+0100
TZOFFSETTO:+0200
TZNAME:CEST
END:DAYLIGHT
END:VTIMEZONE
END:VCALENDAR