BEGIN:VCALENDAR
VERSION:2.0
PRODID:-//wp-events-plugin.com//7.2.3.1//EN
BEGIN:VEVENT
UID:1-2178@buddytobuddy.nl
DTSTART;TZID=Europe/Amsterdam:20240220T183000
DTEND;TZID=Europe/Amsterdam:20240220T213000
DTSTAMP:20240123T180612Z
URL:https://buddytobuddy.nl/event/eerste-matchingsdiner-2024-in-breda/
SUMMARY:Eerste matchingsdiner 2024 in Breda
DESCRIPTION:Het is bijna zo ver\, het eerste matchingsdiner van 2024 vindt 
 plaats op 20 februari 2024. De locatie blijft nog even een verrassing. Maa
 r het belooft weer een onvergetelijke avond te worden. Vol nieuwe verbindi
 ngen\, lekker eten\, mooie verhalen\, muziek en dans! \n\nTot snel! 💛
CATEGORIES:Breda
END:VEVENT
BEGIN:VTIMEZONE
TZID:Europe/Amsterdam
X-LIC-LOCATION:Europe/Amsterdam
BEGIN:STANDARD
DTSTART:20231029T020000
TZOFFSETFROM:+0200
TZOFFSETTO:+0100
TZNAME:CET
END:STANDARD
END:VTIMEZONE
END:VCALENDAR