BEGIN:VCALENDAR
VERSION:2.0
PRODID:-//wp-events-plugin.com//7.2.3.1//EN
BEGIN:VEVENT
UID:1-3933@buddytobuddy.nl
DTSTART;TZID=Europe/Amsterdam:20260423T000000
DTEND;TZID=Europe/Amsterdam:20260423T000000
DTSTAMP:20260422T130118Z
URL:https://buddytobuddy.nl/event/documentaire-klantreis-mimik-deventer/
SUMMARY:Documentaire Klantreis MIMIK Deventer
DESCRIPTION:Vanaf donderdag 23 april 2026 is er in MIMIK Deventer deze mooi
 e\, bijzondere documentaire te zien. De documentaire volgt nieuwkomers bij
  hun inburgering. Van huisvesting tot taal- en cultuurlessen. Ook worden d
 e uitdagingen voor zowel hen als hun begeleiders in kaart gebracht.
CATEGORIES:Deventer
LOCATION:Achter de Muren Vispoort 8-10\, MIMIK Deventer\, Deventer\, Overij
 ssel\, 7411 SL\, Nederland
GEO:52.25218;6.152778
X-APPLE-STRUCTURED-LOCATION;VALUE=URI;X-ADDRESS=MIMIK Deventer\, Deventer\,
  Overijssel\, 7411 SL\, Nederland;X-APPLE-RADIUS=100;X-TITLE=Achter de Mur
 en Vispoort 8-10:geo:52.25218,6.152778
END:VEVENT
BEGIN:VTIMEZONE
TZID:Europe/Amsterdam
X-LIC-LOCATION:Europe/Amsterdam
BEGIN:DAYLIGHT
DTSTART:20260329T030000
TZOFFSETFROM:+0100
TZOFFSETTO:+0200
TZNAME:CEST
END:DAYLIGHT
END:VTIMEZONE
END:VCALENDAR