BEGIN:VCALENDAR
VERSION:2.0
PRODID:-//wp-events-plugin.com//7.2.3.1//EN
BEGIN:VEVENT
UID:1-3941@buddytobuddy.nl
DTSTART;TZID=Europe/Amsterdam:20260519T140000
DTEND;TZID=Europe/Amsterdam:20260519T170000
DTSTAMP:20260424T152544Z
URL:https://buddytobuddy.nl/event/creatieve-wereldhuiskamer-gorssel/
SUMMARY:Wereldhuiskamer Gorssel - deze week een kunstzinnige workshop ' Sch
 ilderen met draad.'
DESCRIPTION:Zin om gezellig langs te komen bij onze Buddy to Buddy huiskame
 r in Gorssel? We zijn elke 3e dinsdag middag van de maand geopend tussen 1
 4.00 en 16.00 uur.\nEn deze keer organiseren we een creatieve Wereldhuiska
 mer! Een kunstzinnige workshop "Schilderen met draad" bij Buddy to Buddy L
 ochem! Uit je hoofd met je handen. \nHet is een gezellige plek waar mense
 n elkaar kunnen ontmoeten\, ervaringen delen en samen activiteiten beleven
  - een plek waar verbinding tussen verschillende culturen en plezier samen
 komen. Dus buddy’s\, voormalige buddy’s en iedereen die zin heeft in g
 ezelligheid en ontmoeting tussen verschillende culturen: kom gerust langs 
 en voel je van harte welkom! 🩷💛\n\nKom lekker wat drinken bij ons in
  de huiskamer: koffie\, thee en koekjes staan voor je klaar! ☕🍪\n\nLE
 T OP ☀️Is het mooi weer? ☀️ Dan doen we soms iets leuks buiten!We 
 zetten dit dan op onze website\, social media en delen dit in onze WhatsAp
 p groepen.We gaan dan om 14.45 uur weg. Kom op tijd!Kom je later? Bel ons:
  06-23326298. Dan zeggen we waar we zijn.\n\nWanneer: Elke 3e dinsdag midd
 ag van de maandTijd: We zijn van 14.00 - 16.00 uur openLocatie: Trefpunt\,
  Molenweg 53-55 in Gorssel\n\nTot dan! 🩷💛\n\nContactE-mail: lochem@b
 uddytobuddy.nlTelefoon: 06-23326298\n
CATEGORIES:Lochem
LOCATION:Trefpunt\, Molenweg 53-55\, Gorssel\, Gelderland\, 7213 XD\, Neder
 land
GEO:52.202555;6.203187
X-APPLE-STRUCTURED-LOCATION;VALUE=URI;X-ADDRESS=Molenweg 53-55\, Gorssel\, 
 Gelderland\, 7213 XD\, Nederland;X-APPLE-RADIUS=100;X-TITLE=Trefpunt:geo:5
 2.202555,6.203187
END:VEVENT
BEGIN:VTIMEZONE
TZID:Europe/Amsterdam
X-LIC-LOCATION:Europe/Amsterdam
BEGIN:DAYLIGHT
DTSTART:20260329T030000
TZOFFSETFROM:+0100
TZOFFSETTO:+0200
TZNAME:CEST
END:DAYLIGHT
END:VTIMEZONE
END:VCALENDAR