BEGIN:VCALENDAR
VERSION:2.0
PRODID:-//wp-events-plugin.com//7.2.3.1//EN
BEGIN:VEVENT
UID:1-3942@buddytobuddy.nl
DTSTART;TZID=Europe/Amsterdam:20260521T190000
DTEND;TZID=Europe/Amsterdam:20260521T190000
DTSTAMP:20260424T130358Z
URL:https://buddytobuddy.nl/event/buddywalk-de-witte-wieven/
SUMMARY:Buddywalk: De Witte Wieven
DESCRIPTION:Een mooie wandeling over de Lochemse Berg langs bos\, heuvels e
 n de mysterieuze Witte Wievenkuil. Route ±4 km\, ook leuk (en een beetje 
 spannend) voor kinderen.\n\n🕢 Start: 19:00\n\n📍 Parkeerplaats Boshot
 el De Lochemse Heuvels\, Lochemseweg 37\, Barchem
CATEGORIES:Lochem
LOCATION:Parkeerplaats Boshotel De Lochemse Heuvels\, Lochemseweg 37 \, bar
 chem\, 
GEO:52.138814;6.423188
X-APPLE-STRUCTURED-LOCATION;VALUE=URI;X-ADDRESS=Lochemseweg 37 \, barchem\,
  ;X-APPLE-RADIUS=100;X-TITLE=Parkeerplaats Boshotel De Lochemse Heuvels:ge
 o:52.138814,6.423188
END:VEVENT
BEGIN:VTIMEZONE
TZID:Europe/Amsterdam
X-LIC-LOCATION:Europe/Amsterdam
BEGIN:DAYLIGHT
DTSTART:20260329T030000
TZOFFSETFROM:+0100
TZOFFSETTO:+0200
TZNAME:CEST
END:DAYLIGHT
END:VTIMEZONE
END:VCALENDAR