BEGIN:VCALENDAR
VERSION:2.0
PRODID:-//wp-events-plugin.com//7.2.3.1//EN
BEGIN:VEVENT
UID:1-2181@buddytobuddy.nl
DTSTART;TZID=Europe/Amsterdam:20240127T134500
DTEND;TZID=Europe/Amsterdam:20240127T150000
DTSTAMP:20240123T182905Z
URL:https://buddytobuddy.nl/event/buddywalk-beekbergen-2/
SUMMARY:Buddywalk Beekbergen
DESCRIPTION:Er is weer een Buddywalk vanuit Beekbergen deze maand. We gaan 
 met elkaar wandelen om elkaar (beter) te leren kennen  en samen te geniet
 en van het buiten zijn.\n\nDe Buddywalk is gratis  en iedereen is welkom.
  Ook als je nog geen buddy bent.\nJe hoeft je niet van tevoren aan te meld
 en. Ga je gezellig mee\, zorg dan dat je op tijd bent!\n\nWe verzamelen om
 : 13:45 uur\nDe wandeling start om: 14:00 uur en duurt tot ongeveer 15:00 
 uur.\nLocatie: Parkeerplaats AZC Beekbergen\, Schalterdalweg 18. 7361 TK B
 eekbergen.\n\n\nHonden zijn welkom bij deze activiteit.\nEr is voldoende p
 arkeergelegenheid bij/rondom de startplek.
ATTACH;FMTTYPE=image/jpeg:https://buddytobuddy.nl/wp-content/uploads/2023/
 12/20231014_104042-scaled.jpg
CATEGORIES:Apeldoorn
LOCATION:Parkeerplaats Berg &amp\; Bos\, Parkeerplaats Berg &amp\; Bos \, A
 peldoorn\, 7311 CD\, Nederland
GEO:52.206388;5.919672
X-APPLE-STRUCTURED-LOCATION;VALUE=URI;X-ADDRESS=Parkeerplaats Berg & Bos \,
  Apeldoorn\, 7311 CD\, Nederland;X-APPLE-RADIUS=100;X-TITLE=Parkeerplaats 
 Berg & Bos:geo:52.206388,5.919672
END:VEVENT
BEGIN:VTIMEZONE
TZID:Europe/Amsterdam
X-LIC-LOCATION:Europe/Amsterdam
BEGIN:STANDARD
DTSTART:20231029T020000
TZOFFSETFROM:+0200
TZOFFSETTO:+0100
TZNAME:CET
END:STANDARD
END:VTIMEZONE
END:VCALENDAR