BEGIN:VCALENDAR
VERSION:2.0
PRODID:-//wp-events-plugin.com//7.2.3.1//EN
BEGIN:VEVENT
UID:1-2672@buddytobuddy.nl
DTSTART;TZID=Europe/Amsterdam:20241009T193000
DTEND;TZID=Europe/Amsterdam:20241009T211500
DTSTAMP:20241002T141342Z
URL:https://buddytobuddy.nl/event/buddycafe-zeist/
SUMMARY:Buddycafe Zeist
DESCRIPTION:\nDe tweede ronde van Buddy to Buddy Zeist is inmiddels gestart
  met een ontspannen en feestelijk matchingdiner met een groep van 50 nieuw
 e buddy's! Dat betekent ook dat na de zomer de buddycafes weer open gaan\,
  waar alle buddy's elkaar beter kunnen leren kennen en samen plezier kunne
 n maken. Het eerst buddycafe op 9 oktober staat dan ook in het teken van h
 eel veel...spelletjes! Dus ben je buddy in deze ronde\, van de vorige rond
 e\, of ken je ons nog niet maar ben je gewoon benieuwd? Iedereen is welkom
  om aan te sluiten! \n\n\n\nTot snel en hartelijke groetjes\,Team Zeist \n
ATTACH;FMTTYPE=image/jpeg:https://buddytobuddy.nl/wp-content/uploads/2024/
 10/Foto-spelletje-bbq.jpg
CATEGORIES:Zeist
LOCATION:Binnenbos Meander\, Hoge Kanje 186\, Zeist\, 3708DL\, Nederland
GEO:52.076534;5.263171
X-APPLE-STRUCTURED-LOCATION;VALUE=URI;X-ADDRESS=Hoge Kanje 186\, Zeist\, 37
 08DL\, Nederland;X-APPLE-RADIUS=100;X-TITLE=Binnenbos Meander:geo:52.07653
 4,5.263171
END:VEVENT
BEGIN:VTIMEZONE
TZID:Europe/Amsterdam
X-LIC-LOCATION:Europe/Amsterdam
BEGIN:DAYLIGHT
DTSTART:20240331T030000
TZOFFSETFROM:+0100
TZOFFSETTO:+0200
TZNAME:CEST
END:DAYLIGHT
END:VTIMEZONE
END:VCALENDAR