BEGIN:VCALENDAR
VERSION:2.0
PRODID:-//wp-events-plugin.com//7.2.3.1//EN
BEGIN:VEVENT
UID:1-3946@buddytobuddy.nl
DTSTART;TZID=Europe/Amsterdam:20260518T073000
DTEND;TZID=Europe/Amsterdam:20260518T093000
DTSTAMP:20260424T161450Z
URL:https://buddytobuddy.nl/event/buddycafe-special-edition/
SUMMARY:Buddycafé: Special Edition
DESCRIPTION:Elke eerste en derde maandag van de maand is het tijd voor het 
 Buddycafé! Een gezellige avond vol ontmoeting\, goede gesprekken\, koffie
  en een leuke activiteit.\nMet dit keer een speciale editie: het is het sl
 otfeest van de huidige ronde en iedereen is welkom om later aan te sluiten
 !🎉 Locatie en tijd volgen nog...\nIedereen is welkom: Oud- en huidige b
 uddy's\, en iedereen die nieuwsgierig is naar ons project en/of graag even
  de sfeer komt proeven!\nTogether you discover more.
CATEGORIES:Arnhem
END:VEVENT
BEGIN:VTIMEZONE
TZID:Europe/Amsterdam
X-LIC-LOCATION:Europe/Amsterdam
BEGIN:DAYLIGHT
DTSTART:20260329T030000
TZOFFSETFROM:+0100
TZOFFSETTO:+0200
TZNAME:CEST
END:DAYLIGHT
END:VTIMEZONE
END:VCALENDAR