BEGIN:VCALENDAR
VERSION:2.0
PRODID:-//wp-events-plugin.com//7.2.3.1//EN
BEGIN:VEVENT
UID:1-3709@buddytobuddy.nl
DTSTART;TZID=Europe/Amsterdam:20261217T183000
DTEND;TZID=Europe/Amsterdam:20261217T203000
DTSTAMP:20260212T191514Z
URL:https://buddytobuddy.nl/event/buddycafe-sinterklaas-3/
SUMMARY:Warme winter avond met Potluck
DESCRIPTION:Deze donderdagavond vieren we een gezellige winteravond samen m
 et Amal.\nHet wordt een avond om elkaar te ontmoeten\, bij te praten\, naa
 r muziek te luisteren en samen te genieten.\nIedereen is welkom\, ook als 
 je iemand meeneemt 💛\n\nHet is een potluck avond\, dus neem als het kan
  iets lekkers mee uit je eigen cultuur om te delen. Wij zorgen voor de res
 t!\n\n📅 Donderdag 17 december\n🕖 Tijd: 18:30 tot 21:00\n📍 Ariëns
 plein 1\, Enschede\n(hoofdingang Connect-U)\n\nBij vragen weten jullie ons
  te vinden. Wij hebben er zin in!\nTot donderdag ✨🍽️
CATEGORIES:Enschede,Twente
LOCATION:\, Ariënsplein 1\, Enschede\, 7543 XH\, 
GEO:52.216411;6.892064
X-APPLE-STRUCTURED-LOCATION;VALUE=URI;X-ADDRESS=Ariënsplein 1\, Enschede\,
  7543 XH\, ;X-APPLE-RADIUS=100;X-TITLE=:geo:52.216411,6.892064
END:VEVENT
BEGIN:VTIMEZONE
TZID:Europe/Amsterdam
X-LIC-LOCATION:Europe/Amsterdam
BEGIN:STANDARD
DTSTART:20261025T020000
TZOFFSETFROM:+0200
TZOFFSETTO:+0100
TZNAME:CET
END:STANDARD
END:VTIMEZONE
END:VCALENDAR