BEGIN:VCALENDAR
VERSION:2.0
PRODID:-//wp-events-plugin.com//7.2.3.1//EN
BEGIN:VEVENT
UID:1-3708@buddytobuddy.nl
DTSTART;TZID=Europe/Amsterdam:20261126T190000
DTEND;TZID=Europe/Amsterdam:20261126T210000
DTSTAMP:20260212T190908Z
URL:https://buddytobuddy.nl/event/buddycafe-sinterklaas-2/
SUMMARY:Buddycafé - Sinterklaas!
DESCRIPTION:Elke laatste donderdag van de maand is het tijd voor het Buddy 
 Café! Een gezellige avond vol ontmoeting\, mooie gesprekken en spelletjes
 .\n\nJe kunt bekende gezichten zien\, nieuwe mensen leren kennen en neem g
 erust iemand mee. Vrienden\, familie of collega's\, iedereen is welkom!\n\
 n📅 Donderdag 29 oktober\n🕖 19:00 – 21:00\n📍 Ariënsplein 1\, En
 schede\n(via de hoofdingang van Connect-U\, dan naar de 1e verdieping)\n\n
 Zien we je daar? 😊
CATEGORIES:Enschede,Twente
LOCATION:\, Ariënsplein 1\, Enschede\, 7543 XH\, 
GEO:52.216411;6.892064
X-APPLE-STRUCTURED-LOCATION;VALUE=URI;X-ADDRESS=Ariënsplein 1\, Enschede\,
  7543 XH\, ;X-APPLE-RADIUS=100;X-TITLE=:geo:52.216411,6.892064
END:VEVENT
BEGIN:VTIMEZONE
TZID:Europe/Amsterdam
X-LIC-LOCATION:Europe/Amsterdam
BEGIN:STANDARD
DTSTART:20261025T020000
TZOFFSETFROM:+0200
TZOFFSETTO:+0100
TZNAME:CET
END:STANDARD
END:VTIMEZONE
END:VCALENDAR