BEGIN:VCALENDAR
VERSION:2.0
PRODID:-//wp-events-plugin.com//7.2.3.1//EN
BEGIN:VEVENT
UID:1-3930@buddytobuddy.nl
DTSTART;TZID=Europe/Amsterdam:20260422T190000
DTEND;TZID=Europe/Amsterdam:20260422T210000
DTSTAMP:20260421T102102Z
URL:https://buddytobuddy.nl/event/buddycafe-koningsdag-zeist/
SUMMARY:Buddycafe Koningsdag Zeist
DESCRIPTION:Buddycafe Koningsdag kan natuurlijk niet ontbreken bij Buddy to
  Buddy Zeist. Kom allemaal in oranje kleding en laat je verrassen door hel
 e leuke\, typisch Hollandse spellen. Tot dan!
ATTACH;FMTTYPE=image/jpeg:https://buddytobuddy.nl/wp-content/uploads/2026/
 04/WhatsApp-Image-2026-04-21-at-12.17.51.jpeg
CATEGORIES:Zeist
END:VEVENT
BEGIN:VTIMEZONE
TZID:Europe/Amsterdam
X-LIC-LOCATION:Europe/Amsterdam
BEGIN:DAYLIGHT
DTSTART:20260329T030000
TZOFFSETFROM:+0100
TZOFFSETTO:+0200
TZNAME:CEST
END:DAYLIGHT
END:VTIMEZONE
END:VCALENDAR