BEGIN:VCALENDAR
VERSION:2.0
PRODID:-//wp-events-plugin.com//7.2.3.1//EN
BEGIN:VEVENT
UID:1-3676@buddytobuddy.nl
DTSTART;TZID=Europe/Amsterdam:20260625T190000
DTEND;TZID=Europe/Amsterdam:20260625T210000
DTSTAMP:20260415T205556Z
URL:https://buddytobuddy.nl/event/buddycafe-in-de-nieuwe-bron-2026-06-25/
SUMMARY:Buddycafé in de nieuwe Bron!
DESCRIPTION:De nieuwe Bron is open en klaar om veel Leusdenaren te verwelko
 men!\nOok Buddy to Buddy organiseert hier regelmatig een activiteit.\nZo i
 s er maandelijks buddycafé\, waar nieuwkomers en Nederlandse dorpsgenoten
  elkaar ontmoeten.\nWe doen spelletjes\, drinken koffie of thee\, en genie
 ten van lekkernijen uit allerlei culturen.\n\nWelkom als je interesse hebt
  in het buddy-traject\, als je het leuk vindt andere statushouders te spre
 ken of gewoon even een potje wilt sjoelen in de buurt.\nJe ontmoet buddy
 ’s\, oude bekenden en nieuwe vrienden. Kinderen mogen natuurlijk ook kom
 en\, gezellig! Zie hier een terugblik van een vorig buddycafé in mei: In
 stagram Reel Buddycafé\n\nTot ziens op elke laatste donderdag van de maan
 d! We zijn open van 19:00 tot 21:00 uur.\n\nBen je benieuwd naar Buddy to 
 Buddy en wil je een voorlichting krijgen over het traject? We vertellen je
  graag meer tijdens het buddycafé. Je even aanmelden is wel handig. Dat k
 an via een prive-berichtje of e-mail\, naar leusden@buddytobuddy.nl.\n\n
 📍De Bron van Leusden in gebouw Blijhof\, Lisidunalaan 2\, achter De Til
 \, Serafim en Kringloop Eemland.
ATTACH;FMTTYPE=image/jpeg:https://buddytobuddy.nl/wp-content/uploads/2024/
 09/DSC03397-scaled.jpg
CATEGORIES:Leusden
END:VEVENT
BEGIN:VTIMEZONE
TZID:Europe/Amsterdam
X-LIC-LOCATION:Europe/Amsterdam
BEGIN:DAYLIGHT
DTSTART:20260329T030000
TZOFFSETFROM:+0100
TZOFFSETTO:+0200
TZNAME:CEST
END:DAYLIGHT
END:VTIMEZONE
END:VCALENDAR