BEGIN:VCALENDAR
VERSION:2.0
PRODID:-//wp-events-plugin.com//7.2.3.1//EN
BEGIN:VEVENT
UID:1-3706@buddytobuddy.nl
DTSTART;TZID=Europe/Amsterdam:20260625T190000
DTEND;TZID=Europe/Amsterdam:20260625T210000
DTSTAMP:20260212T190724Z
URL:https://buddytobuddy.nl/event/buddycafe-elke-laatste-donderdag-van-de-
 maand-7/
SUMMARY:Buddycafé - elke laatste donderdag van de maand
DESCRIPTION:Elke laatste donderdag van de maand is het tijd voor het Buddy 
 Café! Een gezellige avond vol ontmoeting\, mooie gesprekken en spelletjes
 .\n\nJe kunt bekende gezichten zien\, nieuwe mensen leren kennen en neem g
 erust iemand mee. Vrienden\, familie of collega's\, iedereen is welkom!\n\
 n📅 Donderdag 25 juni\n🕖 19:00 – 21:00\n📍 Ariënsplein 1\, Ensch
 ede\n(via de hoofdingang van Connect-U\, dan naar de 1e verdieping)\n\nZie
 n we je daar? 😊
CATEGORIES:Enschede,Twente
LOCATION:\, Ariënsplein 1\, Enschede\, 7543 XH\, 
GEO:52.216411;6.892064
X-APPLE-STRUCTURED-LOCATION;VALUE=URI;X-ADDRESS=Ariënsplein 1\, Enschede\,
  7543 XH\, ;X-APPLE-RADIUS=100;X-TITLE=:geo:52.216411,6.892064
END:VEVENT
BEGIN:VTIMEZONE
TZID:Europe/Amsterdam
X-LIC-LOCATION:Europe/Amsterdam
BEGIN:DAYLIGHT
DTSTART:20260329T030000
TZOFFSETFROM:+0100
TZOFFSETTO:+0200
TZNAME:CEST
END:DAYLIGHT
END:VTIMEZONE
END:VCALENDAR