BEGIN:VCALENDAR
VERSION:2.0
PRODID:-//wp-events-plugin.com//7.2.3.1//EN
BEGIN:VEVENT
UID:1-3690@buddytobuddy.nl
DTSTART;TZID=Europe/Amsterdam:20261215T193000
DTEND;TZID=Europe/Amsterdam:20261215T213000
DTSTAMP:20260203T221612Z
URL:https://buddytobuddy.nl/event/buddycafe-bronckhorst-17/
SUMMARY:Buddycafé Bronckhorst
DESCRIPTION:Buddycafé Bronckhorst\nIedere derde dinsdag van de maand is er
  een Buddycafé in Bronckhorst! Iedereen is van harte welkom voor een goed
  gesprek\, een kop koffie of thee en een spelletje. Kom gezellig langs en 
 ontmoet (andere) buddy’s en dorpsgenoten!\n
CATEGORIES:Bronckhorst
END:VEVENT
BEGIN:VTIMEZONE
TZID:Europe/Amsterdam
X-LIC-LOCATION:Europe/Amsterdam
BEGIN:STANDARD
DTSTART:20261025T020000
TZOFFSETFROM:+0200
TZOFFSETTO:+0100
TZNAME:CET
END:STANDARD
END:VTIMEZONE
END:VCALENDAR