BEGIN:VCALENDAR
VERSION:2.0
PRODID:-//wp-events-plugin.com//7.2.3.1//EN
BEGIN:VEVENT
UID:1-3266@buddytobuddy.nl
DTSTART;TZID=Europe/Amsterdam:20250919T190000
DTEND;TZID=Europe/Amsterdam:20250919T210000
DTSTAMP:20250913T185724Z
URL:https://buddytobuddy.nl/event/buddycafe-bingo/
SUMMARY:Buddycafé: BINGO!
DESCRIPTION:Ook in de zomer ben je in Leusden welkom bij de buddycafé's! W
 e zien je op 17/7\, 15/8 en 19/9 in de Bron.
ATTACH;FMTTYPE=image/jpeg:https://buddytobuddy.nl/wp-content/uploads/2025/
 06/1.png
CATEGORIES:Leusden
LOCATION:De Bron\, Hoefijzer 18\, Leusden\, Nederland
GEO:52.127673;5.421829
X-APPLE-STRUCTURED-LOCATION;VALUE=URI;X-ADDRESS=Hoefijzer 18\, Leusden\, Ne
 derland;X-APPLE-RADIUS=100;X-TITLE=De Bron:geo:52.127673,5.421829
END:VEVENT
BEGIN:VTIMEZONE
TZID:Europe/Amsterdam
X-LIC-LOCATION:Europe/Amsterdam
BEGIN:DAYLIGHT
DTSTART:20250330T030000
TZOFFSETFROM:+0100
TZOFFSETTO:+0200
TZNAME:CEST
END:DAYLIGHT
END:VTIMEZONE
END:VCALENDAR