BEGIN:VCALENDAR
VERSION:2.0
PRODID:-//wp-events-plugin.com//7.2.3.1//EN
BEGIN:VEVENT
UID:1-2441@buddytobuddy.nl
DTSTART;TZID=Europe/Amsterdam:20241203T190000
DTEND;TZID=Europe/Amsterdam:20241203T210000
DTSTAMP:20240710T110828Z
URL:https://buddytobuddy.nl/event/buddycafe-bij-iedereen-aan-boord-9/
SUMMARY:Buddycafé bij Iedereen aan Boord
DESCRIPTION:Bij deze fijne plek opent Buddy to Buddy elke eerste dinsdagavo
 nd van de maand haar deuren voor het buddycafé. Het buddycafé is de perf
 ecte plek om andere buddy’s te leren kennen\, samen een potje Jenga te s
 pelen en leuke plannen te maken.\n\nWil jij iets speciaals doen? Bijvoorbe
 eld lekker eten koken of muziek maken? Leuk! Je mag altijd contact opnemen
  met Leanne of Lian\, onze coördinatoren.\n\nIedereen is welkom. Oud- en 
 huidige buddy’s\, en ook nieuwsgierige Deventenaren en enthousiaste nieu
 wkomers. We vinden het leuk als jij samen met jouw buddy kan komen\, maar 
 als jouw buddy niet kan\, ben jij natuurlijk ook extra welkom! Loop gerust
  binnen\, we zien je daar.
CATEGORIES:Deventer
LOCATION:Iedereen aan Boord\, Achter de Muren-Zandpoort 10\, Deventer\, Ned
 erland\, 7411 GE\, Nederland
GEO:52.250641;6.16094
X-APPLE-STRUCTURED-LOCATION;VALUE=URI;X-ADDRESS=Achter de Muren-Zandpoort 1
 0\, Deventer\, Nederland\, 7411 GE\, Nederland;X-APPLE-RADIUS=100;X-TITLE=
 Iedereen aan Boord:geo:52.250641,6.16094
END:VEVENT
BEGIN:VTIMEZONE
TZID:Europe/Amsterdam
X-LIC-LOCATION:Europe/Amsterdam
BEGIN:STANDARD
DTSTART:20241027T020000
TZOFFSETFROM:+0200
TZOFFSETTO:+0100
TZNAME:CET
END:STANDARD
END:VTIMEZONE
END:VCALENDAR