BEGIN:VCALENDAR
VERSION:2.0
PRODID:-//wp-events-plugin.com//7.2.3.1//EN
BEGIN:VEVENT
UID:1-3936@buddytobuddy.nl
DTSTART;TZID=Europe/Amsterdam:20261001T190000
DTEND;TZID=Europe/Amsterdam:20261001T210000
DTSTAMP:20260422T130840Z
URL:https://buddytobuddy.nl/event/buddycafe-120/
SUMMARY:Buddycafé
DESCRIPTION:Elke eerste donderdag van de maand vindt er een Buddycafé plaa
 ts in De Tijdberg. Het Buddycafé heeft een vrije inloop\, iedereen is dus
  welkom. Er is koffie\, thee\, limonade en koekjes. Het Buddycafé draait 
 om gezelligheid\, gesprekken en het delen van verhalen.
CATEGORIES:Deventer
LOCATION:Huiskamer De Tijdberg\, Nieuwstraat 29\, Deventer\, Nederland
GEO:52.254064;6.154708
X-APPLE-STRUCTURED-LOCATION;VALUE=URI;X-ADDRESS=Nieuwstraat 29\, Deventer\,
  Nederland;X-APPLE-RADIUS=100;X-TITLE=Huiskamer De Tijdberg:geo:52.254064,
 6.154708
END:VEVENT
BEGIN:VTIMEZONE
TZID:Europe/Amsterdam
X-LIC-LOCATION:Europe/Amsterdam
BEGIN:DAYLIGHT
DTSTART:20260329T030000
TZOFFSETFROM:+0100
TZOFFSETTO:+0200
TZNAME:CEST
END:DAYLIGHT
END:VTIMEZONE
END:VCALENDAR