BEGIN:VCALENDAR
VERSION:2.0
PRODID:-//wp-events-plugin.com//7.2.3.1//EN
BEGIN:VEVENT
UID:1-3920@buddytobuddy.nl
DTSTART;TZID=Europe/Amsterdam:20260620T173000
DTEND;TZID=Europe/Amsterdam:20260620T223000
DTSTAMP:20260414T104443Z
URL:https://buddytobuddy.nl/event/buddy-to-buddy-loopt-mee-met-de-nacht-va
 n-de-vluchteling-op-20-juni/
SUMMARY:Nacht van de Vluchteling 2026
DESCRIPTION:Ook dit jaar lopen we mee met de Nacht van de Vluchteling
ATTACH;FMTTYPE=image/jpeg:https://buddytobuddy.nl/wp-content/uploads/2026/
 04/Nacht-van-de-vluchteling-nijmegen.jpeg
CATEGORIES:Nijmegen
END:VEVENT
BEGIN:VTIMEZONE
TZID:Europe/Amsterdam
X-LIC-LOCATION:Europe/Amsterdam
BEGIN:DAYLIGHT
DTSTART:20260329T030000
TZOFFSETFROM:+0100
TZOFFSETTO:+0200
TZNAME:CEST
END:DAYLIGHT
END:VTIMEZONE
END:VCALENDAR