BEGIN:VCALENDAR
VERSION:2.0
PRODID:-//wp-events-plugin.com//7.2.3.1//EN
BEGIN:VEVENT
UID:1-2174@buddytobuddy.nl
DTSTART;TZID=Europe/Amsterdam:20240220T193000
DTEND;TZID=Europe/Amsterdam:20240220T213000
DTSTAMP:20240125T173214Z
URL:https://buddytobuddy.nl/event/buddy-cafe/
SUMMARY:Buddy Café
DESCRIPTION:Elke derde dinsdagavond van de maand is ons Buddycafé geopend!
  Dat betekent: samen lachen\, spelletjes spelen\, muziek luisteren en nieu
 we vrienden maken. We zijn heel benieuwd wat voor nieuwe spelletjes we nu 
 weer gaan ontdekken. Standaard spellen zijn Hallo Galli\, Jungle Speed\, s
 chaken\, en nog veel meer. Neem zelf ook je eigen spelletjes mee om te del
 en met anderen! Dit is ook de perfecte plek om meer informatie te krijgen 
 over het matchingstraject en om andere Nederlandse Rotterdammers en nieuwk
 omers te ontmoeten. Ook is dit de gelegenheid voor nieuwkomers om langs te
  komen voor een eerste kennismaking.\nKom jij ook (alvast) even gezellig v
 an de sfeer proeven? Leuk! Iedereen is welkom\, dus ook als je (nog) geen 
 buddy bent. Kom je liever niet alleen? Neem gezellig iemand mee 🙂\nVoel
  je vrij om contact op te nemen voor eventuele vragen. Onze evenementen en
  matchingstrajecten zijn kosteloos.\nLet op: Het is een andere locatie (Ka
 ntine Walhalla) en deze keer beginnen we een half uur later vanwege de inf
 ormatie-avond voor Nederlanders
ATTACH;FMTTYPE=image/jpeg:https://buddytobuddy.nl/wp-content/uploads/2024/
 01/Buddy_to_Buddy_Rotterdam_nov-2022-10041-1.jpg
CATEGORIES:Rotterdam
LOCATION:Kantine Walhalla\,  Veerlaan 11\, Rotterdam\,  \, Nederland
GEO:51.901745;4.486258
X-APPLE-STRUCTURED-LOCATION;VALUE=URI;X-ADDRESS= Veerlaan 11\, Rotterdam\, 
  \, Nederland;X-APPLE-RADIUS=100;X-TITLE=Kantine Walhalla:geo:51.901745,4.
 486258
END:VEVENT
BEGIN:VTIMEZONE
TZID:Europe/Amsterdam
X-LIC-LOCATION:Europe/Amsterdam
BEGIN:STANDARD
DTSTART:20231029T020000
TZOFFSETFROM:+0200
TZOFFSETTO:+0100
TZNAME:CET
END:STANDARD
END:VTIMEZONE
END:VCALENDAR