BEGIN:VCALENDAR
VERSION:2.0
PRODID:-//wp-events-plugin.com//7.2.3.1//EN
BEGIN:VEVENT
UID:1-3829@buddytobuddy.nl
DTSTART;TZID=Europe/Amsterdam:20260527T183000
DTEND;TZID=Europe/Amsterdam:20260527T210000
DTSTAMP:20260303T144418Z
URL:https://buddytobuddy.nl/event/buddy-cafe-35/
SUMMARY:Buddy Café
DESCRIPTION:Elke laatste woensdag van de maand is het tijd voor het Buddyca
 fé! Een gezellige avond vol ontmoeting\, goede gesprekken\, koffie en een
  leuke activiteit\, elke maand weer iets anders.\nOf je nu al buddy bent\,
  benieuwd bent naar ons project of gewoon zin hebt in een fijne avond met 
 betrokken mensen: je bent van harte welkom. Ook (nieuwe) inwoners van Utre
 cht sluiten gezellig aan. Ook nieuwsgierige inwoners van Utrecht en enthou
 siaste nieuwkomers zijn meer dan welkom.\nLoop binnen en proef de sfeer va
 n onze community!
CATEGORIES:Utrecht
END:VEVENT
BEGIN:VTIMEZONE
TZID:Europe/Amsterdam
X-LIC-LOCATION:Europe/Amsterdam
BEGIN:DAYLIGHT
DTSTART:20260329T030000
TZOFFSETFROM:+0100
TZOFFSETTO:+0200
TZNAME:CEST
END:DAYLIGHT
END:VTIMEZONE
END:VCALENDAR