BEGIN:VCALENDAR
VERSION:2.0
PRODID:-//wp-events-plugin.com//7.2.3.1//EN
BEGIN:VEVENT
UID:1-3939@buddytobuddy.nl
DTSTART;TZID=Europe/Amsterdam:20260619T170000
DTEND;TZID=Europe/Amsterdam:20260619T180000
DTSTAMP:20260423T103319Z
URL:https://buddytobuddy.nl/event/blotevoetenpad-2/
SUMMARY:Blotevoetenpad
DESCRIPTION:Op 19 juni\, om 17:00\, wordt er een middag georganiseerd bij h
 et Blotevoetenpad van Buitenpost in Twello. Voor deze activiteit hoef je (
 nog) geen buddy te zijn of te hebben. Iedereen is dus welkom. Het idee van
  het Blotevoetenpad is heel simpel: Je bewandeld een pad van 2\,5 km met v
 erschillende uitdagende obstakels (op je blote voeten). Je loopt door een 
 moeras\, een bamboebos en zelfs een wijngaard! Dus\, ben jij avontuurlijk 
 aangelegd? Meld je aan door ons een mailtje te sturen naar deventer@buddyt
 obuddy.nl!
CATEGORIES:Deventer
LOCATION:Buitenpost Twello\, Rijksstraatweg 17A\, 7391 MH Twello\, Twello\,
  Overijssel\, 7391 MH\, Nederland
GEO:52.246996;6.125177
X-APPLE-STRUCTURED-LOCATION;VALUE=URI;X-ADDRESS=Rijksstraatweg 17A\, 7391 M
 H Twello\, Twello\, Overijssel\, 7391 MH\, Nederland;X-APPLE-RADIUS=100;X-
 TITLE=Buitenpost Twello:geo:52.246996,6.125177
END:VEVENT
BEGIN:VTIMEZONE
TZID:Europe/Amsterdam
X-LIC-LOCATION:Europe/Amsterdam
BEGIN:DAYLIGHT
DTSTART:20260329T030000
TZOFFSETFROM:+0100
TZOFFSETTO:+0200
TZNAME:CEST
END:DAYLIGHT
END:VTIMEZONE
END:VCALENDAR