BEGIN:VCALENDAR
VERSION:2.0
PRODID:-//wp-events-plugin.com//7.2.3.1//EN
BEGIN:VEVENT
UID:1-2448@buddytobuddy.nl
DTSTART;TZID=Europe/Amsterdam:20240823T140000
DTEND;TZID=Europe/Amsterdam:20240823T160000
DTSTAMP:20240821T124629Z
URL:https://buddytobuddy.nl/event/blotenvoetenpad-met-buddy-to-buddy-deven
 ter/
SUMMARY:Blotevoetenpad met Buddy to Buddy Deventer
DESCRIPTION:Vrijdag 23 augustus van 14:00 - 16:00 kun je gratis mee me
 t Buddy to Buddy naar het Blotevoetenpad bij Buitenpost in Twello!\n\nH
 et is een wandeling (uiteraard op blote voeten) van 2\,5 km met verschille
 nde soorten obstakels en ervaringen\, dus trek geschikte kleding aan. Aan
  het einde van de route is er een plekje om je voeten af te spoelen.\nNa 
 de wandeling is er nog tijd voor een hapje en een drankje op het terras!\n
 \nGa je mee? Meld je per persoon aan via dit formulier: het is vol! Helaa
 s kan je niet meer aanmelden. \n\nHet Blotevoetenpad is ook heel geschikt
  voor kinderen.
CATEGORIES:Deventer
LOCATION:Buitenpost\, Rijksstraatweg 17A \, Deventer \, Nederland
GEO:52.246996;6.125177
X-APPLE-STRUCTURED-LOCATION;VALUE=URI;X-ADDRESS=Rijksstraatweg 17A \, Deven
 ter \, Nederland;X-APPLE-RADIUS=100;X-TITLE=Buitenpost:geo:52.246996,6.125
 177
END:VEVENT
BEGIN:VTIMEZONE
TZID:Europe/Amsterdam
X-LIC-LOCATION:Europe/Amsterdam
BEGIN:DAYLIGHT
DTSTART:20240331T030000
TZOFFSETFROM:+0100
TZOFFSETTO:+0200
TZNAME:CEST
END:DAYLIGHT
END:VTIMEZONE
END:VCALENDAR